BEGIN:VCALENDAR
VERSION:2.0
PRODID:-//Tukios.com/
BEGIN:VEVENT
UID:bef1f3ad-3811-432c-8ead-85bd21c798bb@www.stephenvillefh.com
DTSTAMP:20260421T023114Z
DTSTART:20260423T203000Z
DTEND:20260423T213000Z
SUMMARY:Burial
DESCRIPTION:
URL:https://www.stephenvillefh.com/obituaries/wanda-sanders
LOCATION:Blackwell Cemetery 32.11140, -100.32190  Blackwell TX 79056
GEO:32.0868017;-100.3175971
END:VEVENT
END:VCALENDAR