BEGIN:VCALENDAR
VERSION:2.0
PRODID:-//Tukios.com/
BEGIN:VEVENT
UID:24d536d3-2c97-43cf-8545-b80505b7f678@www.stephenvillefh.com
DTSTAMP:20260421T022910Z
DTSTART:20260423T003000Z
DTEND:20260423T020000Z
SUMMARY:Visitation
DESCRIPTION:
URL:https://www.stephenvillefh.com/obituaries/wanda-sanders
LOCATION: 120 W South Loop  Stephenville TX 76401
GEO:32.2110699;-98.1965234
END:VEVENT
END:VCALENDAR