BEGIN:VCALENDAR
VERSION:2.0
PRODID:-//Tukios.com/
BEGIN:VEVENT
UID:814c7b25-62d9-4d18-b531-23a3e0e99de9@www.stephenvillefh.com
DTSTAMP:20260421T023307Z
DTSTART:20260423T150000Z
DTEND:20260423T160000Z
SUMMARY:Funeral Service
DESCRIPTION:
URL:https://www.stephenvillefh.com/obituaries/wanda-sanders
LOCATION: 120 W South Loop  Stephenville TX 76401
GEO:32.2110699;-98.1965234
END:VEVENT
END:VCALENDAR