BEGIN:VCALENDAR
VERSION:2.0
PRODID:-//Tukios.com/
BEGIN:VEVENT
UID:64ebda41-f259-490c-b74d-5405a62537ae@www.stephenvillefh.com
DTSTAMP:20260422T002854Z
DTSTART:20260424
SUMMARY:Burial
DESCRIPTION:
URL:https://www.stephenvillefh.com/obituaries/roger-mcqueary
LOCATION: 300 South Lillian  Stephenville TX 76401
GEO:32.212594;-98.218149
END:VEVENT
END:VCALENDAR