BEGIN:VCALENDAR
VERSION:2.0
PRODID:-//Tukios.com/
BEGIN:VEVENT
UID:7fee17b4-bef6-43a5-b8ba-3cadc9d552b7@www.stephenvillefh.com
DTSTAMP:20260422T002704Z
DTSTART:20260424T180000Z
DTEND:20260424T190000Z
SUMMARY:Visitation
DESCRIPTION:
URL:https://www.stephenvillefh.com/obituaries/roger-mcqueary
LOCATION:Stephenville Funeral Home 120 W South Loop  Stephenville TX 
	76401
GEO:32.2110699;-98.1965234
END:VEVENT
END:VCALENDAR