BEGIN:VCALENDAR
VERSION:2.0
PRODID:-//Tukios.com/
BEGIN:VEVENT
UID:4a535a79-1505-4641-ae84-c5250c7f7207@www.stephenvillefh.com
DTSTAMP:20260421T205156Z
DTSTART:20260423T200000Z
DTEND:20260423T210000Z
SUMMARY:Graveside Service
DESCRIPTION:
URL:https://www.stephenvillefh.com/obituaries/robert-bohannon
LOCATION:Hannibal Cemetery 2312 County Road 111  Stephenville TX 76401
GEO:32.3700191;-98.354247
END:VEVENT
END:VCALENDAR