BEGIN:VCALENDAR
VERSION:2.0
PRODID:-//Tukios.com/
BEGIN:VEVENT
UID:948ff589-e449-4570-85a4-f48090fa8222@www.stephenvillefh.com
DTSTAMP:20260424T211148Z
DTSTART:20260426
SUMMARY:Burial
DESCRIPTION:
URL:https://www.stephenvillefh.com/obituaries/maria-angel
LOCATION: 300 South Lillian  Stephenville TX 76401
GEO:32.212594;-98.218149
END:VEVENT
END:VCALENDAR