BEGIN:VCALENDAR
VERSION:2.0
PRODID:-//Tukios.com/
BEGIN:VEVENT
UID:2d955bbf-db52-455c-9dde-03894a978079@www.stephenvillefh.com
DTSTAMP:20260424T211419Z
DTSTART:20260427T190000Z
DTEND:20260427T200000Z
SUMMARY:Funeral Service
DESCRIPTION:
URL:https://www.stephenvillefh.com/obituaries/maria-angel
LOCATION: 1444 West Washington Street  Stephenville TX 76401
GEO:32.2135825;-98.2157656
END:VEVENT
END:VCALENDAR