BEGIN:VCALENDAR
VERSION:2.0
PRODID:-//Tukios.com/
BEGIN:VEVENT
UID:27966301-aff2-4196-800e-23308752e5d4@www.stephenvillefh.com
DTSTAMP:20260424T211602Z
DTSTART:20260426T220000Z
DTEND:20260427T010000Z
SUMMARY:Rosary
DESCRIPTION:
URL:https://www.stephenvillefh.com/obituaries/maria-angel
LOCATION: 120 W South Loop  Stephenville TX 76401
GEO:32.2110699;-98.1965234
END:VEVENT
END:VCALENDAR